BEGIN:VCALENDAR
VERSION:2.0
PRODID:iheid
X-WR-TIMEZONE:Europe/Zurich
BEGIN:VTIMEZONE
TZID:Europe/Zurich
X-LIC-LOCATION:Europe/Zurich
END:VTIMEZONE
BEGIN:VEVENT
UID:69e74f9e5411b
DTSTART:20210921T121500Z
SEQUENCE:0
TRANSP:OPAQUE
DTEND:20210921T134500Z
URL:https://zoom.us/meeting/register/tJwkcOmuqj8oE9ZH0AT_JpM1dDci9zlaZGan
LOCATION:Maison de la Paix - Genève\, Room S4 Petal 2 (hybrid event) PLEAS
 E NOTE: Access to indoor public events is limited to attendees with a Swis
 s or European COVID certificate. In addition\, face masks must be worn to 
 all in-person events at the Graduate Institute.
SUMMARY:With a Little Help From My Friends: Medium-Term Effects of a Remedi
 al Education Program Targeting Roma Minority
CLASS:PUBLIC
DESCRIPTION:With a Little Help From My Friends: Medium-Term Effects of a Re
 medial Education Program Targeting Roma Minority by  Marianna Battaglia\, 
 Assistant Professor of Economics at University of Alicante.\n\n\n\nEvent c
 onnection: https://zoom.us/meeting/register/tJwkcOmuqj8oE9ZH0AT_JpM1dDci9z
 laZGan
DTSTAMP:20260421T122118Z
END:VEVENT
END:VCALENDAR