BEGIN:VCALENDAR
VERSION:2.0
PRODID:iheid
X-WR-TIMEZONE:Europe/Zurich
BEGIN:VTIMEZONE
TZID:Europe/Zurich
X-LIC-LOCATION:Europe/Zurich
END:VTIMEZONE
BEGIN:VEVENT
UID:69e686adef80a
DTSTART:20211018T140000Z
SEQUENCE:0
TRANSP:OPAQUE
DTEND:20211018T151500Z
LOCATION:Seminar streamed via Zoom
SUMMARY:Trade and Informality in the Presence of Labor Market Frictions and
  Regulations
CLASS:PUBLIC
DESCRIPTION:Trade and Informality in the Presence of Labor Market Frictions
  and Regulations by Pinelopi Goldberg\, Elihu Professor of Economics at Ya
 le University.\n\n\n\nEvent connection: 
DTSTAMP:20260420T220357Z
END:VEVENT
END:VCALENDAR