BEGIN:VCALENDAR
VERSION:2.0
PRODID:iheid
X-WR-TIMEZONE:Europe/Zurich
BEGIN:VTIMEZONE
TZID:Europe/Zurich
X-LIC-LOCATION:Europe/Zurich
END:VTIMEZONE
BEGIN:VEVENT
UID:69e6889c9bf5a
DTSTART:20211115T150000Z
SEQUENCE:0
TRANSP:OPAQUE
DTEND:20211115T161500Z
LOCATION:Seminar streamed via Zoom
SUMMARY:Language Barriers in Multinationals and Knowledge Transfers
CLASS:PUBLIC
DESCRIPTION:Language Barriers in Multinationals and Knowledge Transfers by 
 Amit Khandelwal\, Jerome A. Chazen Professor of Global Business at Columbi
 a Graduate School of Business.\n\n\n\nEvent connection: 
DTSTAMP:20260420T221212Z
END:VEVENT
END:VCALENDAR