BEGIN:VCALENDAR
VERSION:2.0
PRODID:iheid
X-WR-TIMEZONE:Europe/Zurich
BEGIN:VTIMEZONE
TZID:Europe/Zurich
X-LIC-LOCATION:Europe/Zurich
END:VTIMEZONE
BEGIN:VEVENT
UID:69e74f9e073ff
DTSTART:20210914T140000Z
SEQUENCE:0
TRANSP:OPAQUE
DTEND:20210914T160000Z
URL:https://iheid.webex.com/iheid/j.php?RGID=r2b6041fb3b553df450ea97cc5b06c
 676
LOCATION:Maison de la Paix\,&nbsp\;Petal 4 (GCSP)\, Conference room 2\, 4th
  floor &amp\;&nbsp\;Online
SUMMARY:Report launch: Enhancing Due Process in UN Security Council Targete
 d Sanctions Regimes 
CLASS:PUBLIC
DESCRIPTION:Report launch: Enhancing Due Process in UN Security Council Tar
 geted Sanctions Regimes  by Thomas Biersteker\, Larissa van den Herik\, Re
 becca Brubaker.\n\n\n\nEvent connection: https://iheid.webex.com/iheid/j.p
 hp?RGID=r2b6041fb3b553df450ea97cc5b06c676
DTSTAMP:20260421T122118Z
END:VEVENT
END:VCALENDAR