BEGIN:VCALENDAR
VERSION:2.0
PRODID:iheid
X-WR-TIMEZONE:Europe/Zurich
BEGIN:VTIMEZONE
TZID:Europe/Zurich
X-LIC-LOCATION:Europe/Zurich
END:VTIMEZONE
BEGIN:VEVENT
UID:69e54b1fadf4d
DTSTART:20211028T103000Z
SEQUENCE:0
TRANSP:OPAQUE
DTEND:20211028T114500Z
URL:https://iheid.webex.com/iheid/j.php?MTID=m1e7e054c15b7265ad246c070a7081
 3ac
LOCATION:Hybrid event
SUMMARY:Narratives of Neglect: Kenya's Boy Child and the Gendered Language 
 of Grievance
CLASS:PUBLIC
DESCRIPTION:Narratives of Neglect: Kenya&#039\;s Boy Child and the Gendered
  Language of Grievance by Isabel Pike\, The Graduate Institute\, Geneva.\n
 \n\n\nEvent connection: https://iheid.webex.com/iheid/j.php?MTID=m1e7e054c
 15b7265ad246c070a70813ac
DTSTAMP:20260419T233735Z
END:VEVENT
END:VCALENDAR