BEGIN:VCALENDAR
VERSION:2.0
PRODID:iheid
X-WR-TIMEZONE:Europe/Zurich
BEGIN:VTIMEZONE
TZID:Europe/Zurich
X-LIC-LOCATION:Europe/Zurich
END:VTIMEZONE
BEGIN:VEVENT
UID:69e7a0836bee6
DTSTART:20210928T150000Z
SEQUENCE:0
TRANSP:OPAQUE
DTEND:20210928T160000Z
URL:https://zoom.us/webinar/register/WN_oY-YnR8ZSFCVF0usAtkyTA
LOCATION:No location specified
SUMMARY:Impact of a Changing Environment on Human Health
CLASS:PUBLIC
DESCRIPTION:Impact of a Changing Environment on Human Health by Prof. Anne 
 Saab &amp\; Prof. Gian Luca Burci.\n\n\n\nEvent connection: https://zoom.u
 s/webinar/register/WN_oY-YnR8ZSFCVF0usAtkyTA
DTSTAMP:20260421T180627Z
END:VEVENT
END:VCALENDAR