BEGIN:VCALENDAR
VERSION:2.0
PRODID:iheid
X-WR-TIMEZONE:Europe/Zurich
BEGIN:VTIMEZONE
TZID:Europe/Zurich
X-LIC-LOCATION:Europe/Zurich
END:VTIMEZONE
BEGIN:VEVENT
UID:69e55d4405cea
DTSTART:20211207T113000Z
SEQUENCE:0
TRANSP:OPAQUE
DTEND:20211207T130000Z
LOCATION:online
SUMMARY:How Do International Organizations Cooperate?
CLASS:PUBLIC
DESCRIPTION:How Do International Organizations Cooperate? by Andrea Schneik
 er\, Chair of Global Governance\, Zeppelin University.\n\n\n\nEvent connec
 tion: 
DTSTAMP:20260420T005500Z
END:VEVENT
END:VCALENDAR