BEGIN:VCALENDAR
VERSION:2.0
PRODID:iheid
X-WR-TIMEZONE:Europe/Zurich
BEGIN:VTIMEZONE
TZID:Europe/Zurich
X-LIC-LOCATION:Europe/Zurich
END:VTIMEZONE
BEGIN:VEVENT
UID:69eb8fec2cd0c
DTSTART:20211123T173000Z
SEQUENCE:0
TRANSP:OPAQUE
DTEND:20211123T190000Z
URL:https://iheid.webex.com/webappng/sites/iheid/meeting/info/44b0b45ab7444
 05eac05dda92ced6015?isPopupRegisterView=true
LOCATION:CET | NEW DATE | Online event
SUMMARY:Accountability for Sexual and Reproductive Health and Rights in Hum
 anitarian Settings
CLASS:PUBLIC
DESCRIPTION:Accountability for Sexual and Reproductive Health and Rights in
  Humanitarian Settings by .\n\n\n\nEvent connection: https://iheid.webex.c
 om/webappng/sites/iheid/meeting/info/44b0b45ab744405eac05dda92ced6015?isPo
 pupRegisterView=true
DTSTAMP:20260424T174444Z
END:VEVENT
END:VCALENDAR