BEGIN:VCALENDAR
VERSION:2.0
PRODID:iheid
X-WR-TIMEZONE:Europe/Zurich
BEGIN:VTIMEZONE
TZID:Europe/Zurich
X-LIC-LOCATION:Europe/Zurich
END:VTIMEZONE
BEGIN:VEVENT
UID:69e6179015bb6
DTSTART:20211006T163000Z
SEQUENCE:0
TRANSP:OPAQUE
DTEND:20211006T180000Z
LOCATION:Online and at Maison de la paix\, Auditorium A2
SUMMARY:Work in transition: Digital economy and its implications for democr
 acy
CLASS:PUBLIC
DESCRIPTION:Work in transition: Digital economy and its implications for de
 mocracy by Azita Berar Awad\, Simone Baglioni\, Samuel Brülisauer\, Filip
 e Calvao\, Alexandre Hedjazi\, Kostas Papadakis and Maria Mexi.\n\n\n\nEve
 nt connection: 
DTSTAMP:20260420T140952Z
END:VEVENT
END:VCALENDAR