BEGIN:VCALENDAR
VERSION:2.0
PRODID:iheid
X-WR-TIMEZONE:Europe/Zurich
BEGIN:VTIMEZONE
TZID:Europe/Zurich
X-LIC-LOCATION:Europe/Zurich
END:VTIMEZONE
BEGIN:VEVENT
UID:69e65a14e7c17
DTSTART:20211006T101500Z
SEQUENCE:0
TRANSP:OPAQUE
DTEND:20211006T120000Z
LOCATION:Online and at Maison de la paix\, Auditorium A2
SUMMARY:Film screening and debate: “A Thousand and One Martian nights”
CLASS:PUBLIC
DESCRIPTION:Film screening and debate: “A Thousand and One Martian nights
 ” by Patricia Spyer\, Karen Strassler and Tintin Wulia.\n\n\n\nEvent con
 nection: 
DTSTAMP:20260420T185340Z
END:VEVENT
END:VCALENDAR