BEGIN:VCALENDAR
VERSION:2.0
PRODID:iheid
X-WR-TIMEZONE:Europe/Zurich
BEGIN:VTIMEZONE
TZID:Europe/Zurich
X-LIC-LOCATION:Europe/Zurich
END:VTIMEZONE
BEGIN:VEVENT
UID:69e7a0ad48797
DTSTART:20210927T120000Z
SEQUENCE:0
TRANSP:OPAQUE
DTEND:20210927T133000Z
LOCATION:Graduate Institute’s Ivan-Pictet Auditorium&nbsp\;&amp\; Zoom
SUMMARY:GENEVA TRADE WEEK 2021 OPENING PLENARY – TRADE FOR PEACE
CLASS:PUBLIC
DESCRIPTION:GENEVA TRADE WEEK 2021 OPENING PLENARY – TRADE FOR PEACE by G
 eneva Trade Platform .\n\n\n\nEvent connection: 
DTSTAMP:20260421T180709Z
END:VEVENT
END:VCALENDAR