BEGIN:VCALENDAR
VERSION:2.0
PRODID:iheid
X-WR-TIMEZONE:Europe/Zurich
BEGIN:VTIMEZONE
TZID:Europe/Zurich
X-LIC-LOCATION:Europe/Zurich
END:VTIMEZONE
BEGIN:VEVENT
UID:69e8e6924cb8e
DTSTART:20211118T113000Z
SEQUENCE:0
TRANSP:OPAQUE
DTEND:20211118T121500Z
URL:https://zoom.us/webinar/register/WN_cpEfUYl2Qt2hFx81kIcZRw
LOCATION:No location specified
SUMMARY:The New Diplomacy of Global Health Q&A
CLASS:PUBLIC
DESCRIPTION:The New Diplomacy of Global Health Q&amp\;A by Vinh-Kim Nguyen\
 , Tammam Aloudat\, Guillemette Carlucci.\n\n\n\nEvent connection: https://
 zoom.us/webinar/register/WN_cpEfUYl2Qt2hFx81kIcZRw
DTSTAMP:20260422T171738Z
END:VEVENT
END:VCALENDAR