BEGIN:VCALENDAR
VERSION:2.0
PRODID:iheid
X-WR-TIMEZONE:Europe/Zurich
BEGIN:VTIMEZONE
TZID:Europe/Zurich
X-LIC-LOCATION:Europe/Zurich
END:VTIMEZONE
BEGIN:VEVENT
UID:69e5a8231ded1
DTSTART:20211006T150000Z
SEQUENCE:0
TRANSP:OPAQUE
DTEND:20211006T160000Z
LOCATION:No location specified
SUMMARY:The International Macro History Online Seminar series
CLASS:PUBLIC
DESCRIPTION:The International Macro History Online Seminar series by The Co
 lumbian Exchange and Conflict in Asia - Mark Dincecco\, James Fenske\, Ani
 l Menon and Paul Rhode (moderator) .\n\n\n\nEvent connection: 
DTSTAMP:20260420T061427Z
END:VEVENT
END:VCALENDAR