BEGIN:VCALENDAR
VERSION:2.0
PRODID:iheid
X-WR-TIMEZONE:Europe/Zurich
BEGIN:VTIMEZONE
TZID:Europe/Zurich
X-LIC-LOCATION:Europe/Zurich
END:VTIMEZONE
BEGIN:VEVENT
UID:69e5a822935ea
DTSTART:20211013T150000Z
SEQUENCE:0
TRANSP:OPAQUE
DTEND:20211013T160000Z
LOCATION:No location specified
SUMMARY:The International Macro History Online Seminar series
CLASS:PUBLIC
DESCRIPTION:The International Macro History Online Seminar series by  Natio
 nal Banks and the Local Economy - Chenzi Xu and  John Turner (moderator).\
 n\n\n\nEvent connection: 
DTSTAMP:20260420T061426Z
END:VEVENT
END:VCALENDAR