BEGIN:VCALENDAR
VERSION:2.0
PRODID:iheid
X-WR-TIMEZONE:Europe/Zurich
BEGIN:VTIMEZONE
TZID:Europe/Zurich
X-LIC-LOCATION:Europe/Zurich
END:VTIMEZONE
BEGIN:VEVENT
UID:69e5a82249291
DTSTART:20211020T150000Z
SEQUENCE:0
TRANSP:OPAQUE
DTEND:20211020T160000Z
LOCATION:No location specified
SUMMARY:The International Macro History Online Seminar series
CLASS:PUBLIC
DESCRIPTION:The International Macro History Online Seminar series by  Publi
 c Health Shocks and Product Pricing Behavior: Evidence from Life Insurance
  during the 1918-19 Influenza Pandemic - Gustavo Cortes\, Gertjan Verdickt
  and Stefano Battilossi (moderator) .\n\n\n\nEvent connection: 
DTSTAMP:20260420T061426Z
END:VEVENT
END:VCALENDAR