BEGIN:VCALENDAR
VERSION:2.0
PRODID:iheid
X-WR-TIMEZONE:Europe/Zurich
BEGIN:VTIMEZONE
TZID:Europe/Zurich
X-LIC-LOCATION:Europe/Zurich
END:VTIMEZONE
BEGIN:VEVENT
UID:69e5a8239aefe
DTSTART:20211027T150000Z
SEQUENCE:0
TRANSP:OPAQUE
DTEND:20211027T160000Z
LOCATION:No location specified
SUMMARY:The International Macro History Online Seminar series
CLASS:PUBLIC
DESCRIPTION:The International Macro History Online Seminar series by  Where
  is Capital? - Emma Rothschild and Harold James (moderator).\n\n\n\nEvent 
 connection: 
DTSTAMP:20260420T061427Z
END:VEVENT
END:VCALENDAR