BEGIN:VCALENDAR
VERSION:2.0
PRODID:iheid
X-WR-TIMEZONE:Europe/Zurich
BEGIN:VTIMEZONE
TZID:Europe/Zurich
X-LIC-LOCATION:Europe/Zurich
END:VTIMEZONE
BEGIN:VEVENT
UID:69e574dba9407
DTSTART:20211110T160000Z
SEQUENCE:0
TRANSP:OPAQUE
DTEND:20211110T170000Z
LOCATION:No location specified
SUMMARY:The International Macro History Online Seminar series
CLASS:PUBLIC
DESCRIPTION:The International Macro History Online Seminar series by  Compa
 rative European Institutions and the Little Divergence\, 1385-1800 - Anton
 io Castro Henriques\, Nuno Palma and Rui Esteves (moderator).\n\n\n\nEvent
  connection: 
DTSTAMP:20260420T023539Z
END:VEVENT
END:VCALENDAR