BEGIN:VCALENDAR
VERSION:2.0
PRODID:iheid
X-WR-TIMEZONE:Europe/Zurich
BEGIN:VTIMEZONE
TZID:Europe/Zurich
X-LIC-LOCATION:Europe/Zurich
END:VTIMEZONE
BEGIN:VEVENT
UID:69e574da8b2ee
DTSTART:20211117T160000Z
SEQUENCE:0
TRANSP:OPAQUE
DTEND:20211117T170000Z
LOCATION:No location specified
SUMMARY:The International Macro History Online Seminar series
CLASS:PUBLIC
DESCRIPTION:The International Macro History Online Seminar series by  Techn
 ology Adoption and Productivity Growth: Evidence from Industrialization in
  France - Reka Juhasz\, Mara P. Squicciarini\, Nico Voigtländer and Kerst
 in Enflo (moderator).\n\n\n\nEvent connection: 
DTSTAMP:20260420T023538Z
END:VEVENT
END:VCALENDAR