BEGIN:VCALENDAR
VERSION:2.0
PRODID:iheid
X-WR-TIMEZONE:Europe/Zurich
BEGIN:VTIMEZONE
TZID:Europe/Zurich
X-LIC-LOCATION:Europe/Zurich
END:VTIMEZONE
BEGIN:VEVENT
UID:69e574d98a653
DTSTART:20211201T160000Z
SEQUENCE:0
TRANSP:OPAQUE
DTEND:20211201T170000Z
LOCATION:No location specified
SUMMARY:The International Macro History Online Seminar series
CLASS:PUBLIC
DESCRIPTION:The International Macro History Online Seminar series by  Loans
  for the Little Fellow: Credit\, Crisis\, and Recovery in the Great Depres
 sion - Sarah Quincy and Caroline Fohlin (moderator).\n\n\n\nEvent connecti
 on: 
DTSTAMP:20260420T023537Z
END:VEVENT
END:VCALENDAR