BEGIN:VCALENDAR
VERSION:2.0
PRODID:iheid
X-WR-TIMEZONE:Europe/Zurich
BEGIN:VTIMEZONE
TZID:Europe/Zurich
X-LIC-LOCATION:Europe/Zurich
END:VTIMEZONE
BEGIN:VEVENT
UID:69e574db10879
DTSTART:20211208T160000Z
SEQUENCE:0
TRANSP:OPAQUE
DTEND:20211208T170000Z
LOCATION:No location specified
SUMMARY:The International Macro History Online Seminar series
CLASS:PUBLIC
DESCRIPTION:The International Macro History Online Seminar series by  When 
 Autocrats Fail: Bismarck and the Socialists - Felix Kersting and  Alfonso 
 Herranz (moderator).\n\n\n\nEvent connection: 
DTSTAMP:20260420T023539Z
END:VEVENT
END:VCALENDAR