BEGIN:VCALENDAR
VERSION:2.0
PRODID:iheid
X-WR-TIMEZONE:Europe/Zurich
BEGIN:VTIMEZONE
TZID:Europe/Zurich
X-LIC-LOCATION:Europe/Zurich
END:VTIMEZONE
BEGIN:VEVENT
UID:69e574d90f5b4
DTSTART:20211215T160000Z
SEQUENCE:0
TRANSP:OPAQUE
DTEND:20211215T170000Z
LOCATION:No location specified
SUMMARY:The International Macro History Online Seminar series
CLASS:PUBLIC
DESCRIPTION:The International Macro History Online Seminar series by  Infla
 tion and Individual Investors&#039\; Behavior: Evidence from the German Hy
 perinflation - Fabio Braggion\, Felix Meyerinck\,  Nick Schaub and Nathan 
 Sussman (moderator) .\n\n\n\nEvent connection: 
DTSTAMP:20260420T023537Z
END:VEVENT
END:VCALENDAR