BEGIN:VCALENDAR
VERSION:2.0
PRODID:iheid
X-WR-TIMEZONE:Europe/Zurich
BEGIN:VTIMEZONE
TZID:Europe/Zurich
X-LIC-LOCATION:Europe/Zurich
END:VTIMEZONE
BEGIN:VEVENT
UID:69e7a082ed717
DTSTART:20211022T153000Z
SEQUENCE:0
TRANSP:OPAQUE
DTEND:20211022T170000Z
LOCATION:No location specified
SUMMARY:Modernising Landscapes: New Histories of Development and the Enviro
 nment between Europe and the World
CLASS:PUBLIC
DESCRIPTION:Modernising Landscapes: New Histories of Development and the En
 vironment between Europe and the World by .\n\n\n\nEvent connection: 
DTSTAMP:20260421T180626Z
END:VEVENT
END:VCALENDAR