BEGIN:VCALENDAR
VERSION:2.0
PRODID:iheid
X-WR-TIMEZONE:Europe/Zurich
BEGIN:VTIMEZONE
TZID:Europe/Zurich
X-LIC-LOCATION:Europe/Zurich
END:VTIMEZONE
BEGIN:VEVENT
UID:69e54b6438ccf
DTSTART:20211109T151500Z
SEQUENCE:0
TRANSP:OPAQUE
DTEND:20211109T170000Z
URL:https://iheid.webex.com/iheid/j.php?MTID=m066b6b97d31ecf95feedc68b880cf
 070
LOCATION:Maison de la Paix - Genève\, Salle S5 Pétale 1 (événement hybr
 ide) VEUILLEZ NOTER: L’accès aux manifestations publiques à l’intér
 ieur sera limité aux personnes titulaires d’un certificat COVID suisse 
 ou européen.
SUMMARY:Des droits pour le fleuve\, des responsabilités pour ses gardiens:
  Droits bioculturels en action sur le fleuve Atrato en Colombie
CLASS:PUBLIC
DESCRIPTION:Des droits pour le fleuve\, des responsabilités pour ses gardi
 ens: Droits bioculturels en action sur le fleuve Atrato en Colombie by San
 drine Revet\, Sciences Po CERI.\n\n\n\nEvent connection: https://iheid.web
 ex.com/iheid/j.php?MTID=m066b6b97d31ecf95feedc68b880cf070
DTSTAMP:20260419T233844Z
END:VEVENT
END:VCALENDAR