BEGIN:VCALENDAR
VERSION:2.0
PRODID:iheid
X-WR-TIMEZONE:Europe/Zurich
BEGIN:VTIMEZONE
TZID:Europe/Zurich
X-LIC-LOCATION:Europe/Zurich
END:VTIMEZONE
BEGIN:VEVENT
UID:69ea1122507e3
DTSTART:20211019T163000Z
SEQUENCE:0
TRANSP:OPAQUE
DTEND:20211019T180000Z
URL:https://iheid.webex.com/iheid/onstage/g.php?MTID=e768170e264537ac3fcef4
 1265dc17b7c
LOCATION:Auditorium A1B and online
SUMMARY:\"I  am a  Gold Coin\". Women’s sexual Culture in the Afro- Surin
 amese Diaspora
CLASS:PUBLIC
DESCRIPTION:&quot\;I  am a  Gold Coin&quot\;. Women’s sexual Culture in t
 he Afro- Surinamese Diaspora by Gloria Wekker.\n\n\n\nEvent connection: ht
 tps://iheid.webex.com/iheid/onstage/g.php?MTID=e768170e264537ac3fcef41265d
 c17b7c
DTSTAMP:20260423T143130Z
END:VEVENT
END:VCALENDAR