BEGIN:VCALENDAR
VERSION:2.0
PRODID:iheid
X-WR-TIMEZONE:Europe/Zurich
BEGIN:VTIMEZONE
TZID:Europe/Zurich
X-LIC-LOCATION:Europe/Zurich
END:VTIMEZONE
BEGIN:VEVENT
UID:69e57e6b5f122
DTSTART:20211123T173000Z
SEQUENCE:0
TRANSP:OPAQUE
DTEND:20211123T190000Z
LOCATION:Auditorium Ivan Pictet\, Maison de la paix\, Geneva and Online
SUMMARY:Access to higher education for refugee women: how can we help?
CLASS:PUBLIC
DESCRIPTION:Access to higher education for refugee women: how can we help? 
 by .\n\n\n\nEvent connection: 
DTSTAMP:20260420T031627Z
END:VEVENT
END:VCALENDAR