BEGIN:VCALENDAR
VERSION:2.0
PRODID:iheid
X-WR-TIMEZONE:Europe/Zurich
BEGIN:VTIMEZONE
TZID:Europe/Zurich
X-LIC-LOCATION:Europe/Zurich
END:VTIMEZONE
BEGIN:VEVENT
UID:69e52d091701b
DTSTART:20211115T173000Z
SEQUENCE:0
TRANSP:OPAQUE
DTEND:20211115T190000Z
LOCATION:Auditorium Ivan Pictet A1A | Maison de la paix\, Geneva
SUMMARY:Reconciling Ecology and Economy: A Realist Approach with Bertrand P
 iccard
CLASS:PUBLIC
DESCRIPTION:Reconciling Ecology and Economy: A Realist Approach with Bertra
 nd Piccard by In partnership with the Club Diplomatique de Genève and the
  Solar Impulse Foundation.\n\n\n\nEvent connection: 
DTSTAMP:20260419T212913Z
END:VEVENT
END:VCALENDAR