BEGIN:VCALENDAR
VERSION:2.0
PRODID:iheid
X-WR-TIMEZONE:Europe/Zurich
BEGIN:VTIMEZONE
TZID:Europe/Zurich
X-LIC-LOCATION:Europe/Zurich
END:VTIMEZONE
BEGIN:VEVENT
UID:69e8b1d588874
DTSTART:20211201T100000Z
SEQUENCE:0
TRANSP:OPAQUE
DTEND:20211201T110000Z
URL:https://zoom.us/webinar/register/WN_TrpavXD9QRm0X92XUQvWiw
LOCATION:No location specified
SUMMARY:Lead Development in Fragile Contexts Q&A
CLASS:PUBLIC
DESCRIPTION:Lead Development in Fragile Contexts Q&amp\;A by Margaux Pinaud
 \, Oliver Jütersonke &amp\; Medet Tiulegenov.\n\n\n\nEvent connection: ht
 tps://zoom.us/webinar/register/WN_TrpavXD9QRm0X92XUQvWiw
DTSTAMP:20260422T133237Z
END:VEVENT
END:VCALENDAR