BEGIN:VCALENDAR
VERSION:2.0
PRODID:iheid
X-WR-TIMEZONE:Europe/Zurich
BEGIN:VTIMEZONE
TZID:Europe/Zurich
X-LIC-LOCATION:Europe/Zurich
END:VTIMEZONE
BEGIN:VEVENT
UID:69e930cb1e9bf
DTSTART:20211109T113000Z
SEQUENCE:0
TRANSP:OPAQUE
DTEND:20211109T121500Z
URL:https://zoom.us/webinar/register/WN_NUKGtJvhSC6aVsnszkXs1g
LOCATION:No location specified
SUMMARY:Gestion stratégique de projets de développement FAQ
CLASS:PUBLIC
DESCRIPTION:Gestion stratégique de projets de développement FAQ by Domini
 que Rossier &amp\; Marjolaine Rion.\n\n\n\nEvent connection: https://zoom.
 us/webinar/register/WN_NUKGtJvhSC6aVsnszkXs1g
DTSTAMP:20260422T223419Z
END:VEVENT
END:VCALENDAR