BEGIN:VCALENDAR
VERSION:2.0
PRODID:iheid
X-WR-TIMEZONE:Europe/Zurich
BEGIN:VTIMEZONE
TZID:Europe/Zurich
X-LIC-LOCATION:Europe/Zurich
END:VTIMEZONE
BEGIN:VEVENT
UID:69e56fbdd8cdb
DTSTART:20211021T160000Z
SEQUENCE:0
TRANSP:OPAQUE
DTEND:20211021T183000Z
LOCATION:Maison de la Paix - Genève\, Salle S8 Pétale 2 VEUILLEZ NOTER: L
 ’accès aux manifestations publiques à l’intérieur sera limité aux 
 personnes titulaires d’un certificat COVID suisse ou européen.
SUMMARY:L'Aliénation en Héritage: Mobiliser Fanon Aujourd'hui
CLASS:PUBLIC
DESCRIPTION:L&#039\;Aliénation en Héritage: Mobiliser Fanon Aujourd&#039\
 ;hui by .\n\n\n\nEvent connection: 
DTSTAMP:20260420T021349Z
END:VEVENT
END:VCALENDAR