BEGIN:VCALENDAR
VERSION:2.0
PRODID:iheid
X-WR-TIMEZONE:Europe/Zurich
BEGIN:VTIMEZONE
TZID:Europe/Zurich
X-LIC-LOCATION:Europe/Zurich
END:VTIMEZONE
BEGIN:VEVENT
UID:69e574db61182
DTSTART:20211103T111500Z
SEQUENCE:0
TRANSP:OPAQUE
DTEND:20211103T130000Z
URL:https://iheid.webex.com/webappng/sites/iheid/meeting/download/c508e9a99
 dba4aa39a86974572d3a1cc?siteurl=iheid&MTID=md2d8308478c8d3707c26b18563af30
 c1
LOCATION:Online
SUMMARY:Who Writes the Rulings of the World Trade Organization?
CLASS:PUBLIC
DESCRIPTION:Who Writes the Rulings of the World Trade Organization? by Joos
 t Pauwelyn.\n\n\n\nEvent connection: https://iheid.webex.com/webappng/site
 s/iheid/meeting/download/c508e9a99dba4aa39a86974572d3a1cc?siteurl=iheid&am
 p\;MTID=md2d8308478c8d3707c26b18563af30c1
DTSTAMP:20260420T023539Z
END:VEVENT
END:VCALENDAR