BEGIN:VCALENDAR
VERSION:2.0
PRODID:iheid
X-WR-TIMEZONE:Europe/Zurich
BEGIN:VTIMEZONE
TZID:Europe/Zurich
X-LIC-LOCATION:Europe/Zurich
END:VTIMEZONE
BEGIN:VEVENT
UID:69e5a0a72df82
DTSTART:20211027T150000Z
SEQUENCE:0
TRANSP:OPAQUE
DTEND:20211027T160000Z
URL:https://us02web.zoom.us/webinar/register/WN_VGMvpMCbSN6M0WdjAMVrRw
LOCATION:No location specified
SUMMARY:Fair and equitable access to COVID-19 vaccines: How can COVAX be sa
 ved?
CLASS:PUBLIC
DESCRIPTION:Fair and equitable access to COVID-19 vaccines: How can COVAX b
 e saved? by Ayoade Alakija\, Ann Danaiya Usher.\n\n\n\nEvent connection: h
 ttps://us02web.zoom.us/webinar/register/WN_VGMvpMCbSN6M0WdjAMVrRw
DTSTAMP:20260420T054231Z
END:VEVENT
END:VCALENDAR