BEGIN:VCALENDAR
VERSION:2.0
PRODID:iheid
X-WR-TIMEZONE:Europe/Zurich
BEGIN:VTIMEZONE
TZID:Europe/Zurich
X-LIC-LOCATION:Europe/Zurich
END:VTIMEZONE
BEGIN:VEVENT
UID:69e7a0d9cd41c
DTSTART:20211101T150000Z
SEQUENCE:0
TRANSP:OPAQUE
DTEND:20211101T163000Z
LOCATION:Auditorium Ivan Pictet\, Maison de la Paix The Ceremony will also 
 be streamed online\, on the GPW homepage.
SUMMARY:Geneva Peace Week Opening Ceremony
CLASS:PUBLIC
DESCRIPTION:Geneva Peace Week Opening Ceremony by .\n\n\n\nEvent connection
 : 
DTSTAMP:20260421T180753Z
END:VEVENT
END:VCALENDAR