BEGIN:VCALENDAR
VERSION:2.0
PRODID:iheid
X-WR-TIMEZONE:Europe/Zurich
BEGIN:VTIMEZONE
TZID:Europe/Zurich
X-LIC-LOCATION:Europe/Zurich
END:VTIMEZONE
BEGIN:VEVENT
UID:69e574da0f45c
DTSTART:20211105T123000Z
SEQUENCE:0
TRANSP:OPAQUE
DTEND:20211105T140000Z
LOCATION:Auditorium Ivan Pictet\, Maison de la Paix The Ceremony will also 
 be streamed online\, on the GPW homepage.
SUMMARY:Geneva Peace Week Closing Ceremony
CLASS:PUBLIC
DESCRIPTION:Geneva Peace Week Closing Ceremony by .\n\n\n\nEvent connection
 : 
DTSTAMP:20260420T023538Z
END:VEVENT
END:VCALENDAR