BEGIN:VCALENDAR
VERSION:2.0
PRODID:iheid
X-WR-TIMEZONE:Europe/Zurich
BEGIN:VTIMEZONE
TZID:Europe/Zurich
X-LIC-LOCATION:Europe/Zurich
END:VTIMEZONE
BEGIN:VEVENT
UID:69e55d447fdff
DTSTART:20211119T170000Z
SEQUENCE:0
TRANSP:OPAQUE
DTEND:20211119T194500Z
LOCATION:Auditorium Ivan Pictet\, Maison de la paix\, Geneva
SUMMARY:Bigger Than Us
CLASS:PUBLIC
DESCRIPTION:Bigger Than Us by .\n\n\n\nEvent connection: 
DTSTAMP:20260420T005500Z
END:VEVENT
END:VCALENDAR