BEGIN:VCALENDAR
VERSION:2.0
PRODID:iheid
X-WR-TIMEZONE:Europe/Zurich
BEGIN:VTIMEZONE
TZID:Europe/Zurich
X-LIC-LOCATION:Europe/Zurich
END:VTIMEZONE
BEGIN:VEVENT
UID:69e757e9bb23b
DTSTART:20211116T151500Z
SEQUENCE:0
TRANSP:OPAQUE
DTEND:20211116T170000Z
URL:https://iheid.webex.com/iheid/j.php?MTID=m489879a74bf5a94a423e188990272
 51b
LOCATION:MdP Auditorium 2 and Online
SUMMARY:Rebuilding the World after 1989
CLASS:PUBLIC
DESCRIPTION:Rebuilding the World after 1989 by Kristina Spohr.\n\n\n\nEvent
  connection: https://iheid.webex.com/iheid/j.php?MTID=m489879a74bf5a94a423
 e18899027251b
DTSTAMP:20260421T125641Z
END:VEVENT
END:VCALENDAR