BEGIN:VCALENDAR
VERSION:2.0
PRODID:iheid
X-WR-TIMEZONE:Europe/Zurich
BEGIN:VTIMEZONE
TZID:Europe/Zurich
X-LIC-LOCATION:Europe/Zurich
END:VTIMEZONE
BEGIN:VEVENT
UID:69e54b1facbe9
DTSTART:20211110T113000Z
SEQUENCE:0
TRANSP:OPAQUE
DTEND:20211110T130000Z
LOCATION:Auditorium A2 and online
SUMMARY:Albert O. Hirschman’s “possibilism” in action: Experiments in
  Italy and beyond
CLASS:PUBLIC
DESCRIPTION:Albert O. Hirschman’s “possibilism” in action: Experiment
 s in Italy and beyond by Luca Meldolesi\, Nicoletta Stame and Francesco Ci
 cione.\n\n\n\nEvent connection: 
DTSTAMP:20260419T233735Z
END:VEVENT
END:VCALENDAR