BEGIN:VCALENDAR
VERSION:2.0
PRODID:iheid
X-WR-TIMEZONE:Europe/Zurich
BEGIN:VTIMEZONE
TZID:Europe/Zurich
X-LIC-LOCATION:Europe/Zurich
END:VTIMEZONE
BEGIN:VEVENT
UID:69e5432f194a2
DTSTART:20211105T150000Z
SEQUENCE:0
TRANSP:OPAQUE
DTEND:20211105T163000Z
LOCATION:&nbsp\;- Registration on the GIIA's website
SUMMARY:SDG Dialogue Series: Private Equity's Role in Delivering SDGs
CLASS:PUBLIC
DESCRIPTION:SDG Dialogue Series: Private Equity&#039\;s Role in Delivering 
 SDGs by Sebnem Sener (UNDP SDG-Impact)\, Thibaud Ponchon (BlueOrchard)\, M
 arc Moser (Lightrock)\, Nathan Sussman (Centre for Finance and Development
 )\, Jacquie Hui (Geneva Impact Investing Association).\n\n\n\nEvent connec
 tion: 
DTSTAMP:20260419T230343Z
END:VEVENT
END:VCALENDAR