BEGIN:VCALENDAR
VERSION:2.0
PRODID:iheid
X-WR-TIMEZONE:Europe/Zurich
BEGIN:VTIMEZONE
TZID:Europe/Zurich
X-LIC-LOCATION:Europe/Zurich
END:VTIMEZONE
BEGIN:VEVENT
UID:69e73f4dd0352
DTSTART:20211116T173000Z
SEQUENCE:0
TRANSP:OPAQUE
DTEND:20211116T190000Z
URL:https://iheid.webex.com/iheid/j.php?MTID=mac902647ecee9faffecfc9da9895c
 515
LOCATION:No location specified
SUMMARY:Des soutanes et des hommes : la masculinité chez les prêtres cath
 oliques
CLASS:PUBLIC
DESCRIPTION:Des soutanes et des hommes : la masculinité chez les prêtres 
 catholiques by .\n\n\n\nEvent connection: https://iheid.webex.com/iheid/j.
 php?MTID=mac902647ecee9faffecfc9da9895c515
DTSTAMP:20260421T111141Z
END:VEVENT
END:VCALENDAR