BEGIN:VCALENDAR
VERSION:2.0
PRODID:iheid
X-WR-TIMEZONE:Europe/Zurich
BEGIN:VTIMEZONE
TZID:Europe/Zurich
X-LIC-LOCATION:Europe/Zurich
END:VTIMEZONE
BEGIN:VEVENT
UID:69e8b1e0a514a
DTSTART:20211213T173000Z
SEQUENCE:0
TRANSP:OPAQUE
DTEND:20211213T210000Z
LOCATION:No location specified
SUMMARY:Annual Reception in Bern
CLASS:PUBLIC
DESCRIPTION:Annual Reception in Bern by .\n\n\n\nEvent connection: 
DTSTAMP:20260422T133248Z
END:VEVENT
END:VCALENDAR