BEGIN:VCALENDAR
VERSION:2.0
PRODID:iheid
X-WR-TIMEZONE:Europe/Zurich
BEGIN:VTIMEZONE
TZID:Europe/Zurich
X-LIC-LOCATION:Europe/Zurich
END:VTIMEZONE
BEGIN:VEVENT
UID:69e54fa9ca75a
DTSTART:20211112T143000Z
SEQUENCE:0
TRANSP:OPAQUE
DTEND:20211112T163000Z
URL: https://iheid.webex.com/iheid/onstage/g.php?MTID=e3c4fdc119a193e7c6b9a
 803d4f65c984
LOCATION:Online Thesis Defence via Cisco Webex
SUMMARY: International Borderwork: Politics of the Margins in EU Border Man
 agement Assistance in Central Asia
CLASS:PUBLIC
DESCRIPTION: International Borderwork: Politics of the Margins in EU Border
  Management Assistance in Central Asia by Mr Miguel Iglesias Lopez.\n\n\n\
 nEvent connection:  https://iheid.webex.com/iheid/onstage/g.php?MTID=e3c4f
 dc119a193e7c6b9a803d4f65c984
DTSTAMP:20260419T235657Z
END:VEVENT
END:VCALENDAR