BEGIN:VCALENDAR
VERSION:2.0
PRODID:iheid
X-WR-TIMEZONE:Europe/Zurich
BEGIN:VTIMEZONE
TZID:Europe/Zurich
X-LIC-LOCATION:Europe/Zurich
END:VTIMEZONE
BEGIN:VEVENT
UID:69e74f82b837f
DTSTART:20211122T120000Z
SEQUENCE:0
TRANSP:OPAQUE
DTEND:20211122T130000Z
URL:https://zoom.us/meeting/register/tJ0vd-2pqDwqHtzl-eL7uaKh_3DKMaPCibPA
LOCATION:No location specified
SUMMARY:LL.M. in International Law Q&A
CLASS:PUBLIC
DESCRIPTION:LL.M. in International Law Q&amp\;A by Professor Anne Saab\, Pr
 ofessor Fuad Zarbiyev\, Phil Saengrekai\, Jana Sikorska .\n\n\n\nEvent con
 nection: https://zoom.us/meeting/register/tJ0vd-2pqDwqHtzl-eL7uaKh_3DKMaPC
 ibPA
DTSTAMP:20260421T122050Z
END:VEVENT
END:VCALENDAR