BEGIN:VCALENDAR
VERSION:2.0
PRODID:iheid
X-WR-TIMEZONE:Europe/Zurich
BEGIN:VTIMEZONE
TZID:Europe/Zurich
X-LIC-LOCATION:Europe/Zurich
END:VTIMEZONE
BEGIN:VEVENT
UID:69e55d437cecd
DTSTART:20211109T083000Z
SEQUENCE:0
TRANSP:OPAQUE
DTEND:20211109T094500Z
URL:https://bridgew.zoom.us/meeting/register/tJAtcOytqjssGdPu9RbbpdxT6ajoG-
 wnsLJ0
LOCATION:Seminar streamed via Zoom
SUMMARY:Afghanistan as a Global Arena: From Intervention to Disengagement
CLASS:PUBLIC
DESCRIPTION:Afghanistan as a Global Arena: From Intervention to Disengageme
 nt by Alessandro Monsutti.\n\nAs part of the Global MENA Migration Series\
 , ANSO Professor Alessandro Monsutti is giving an online talk on Afghan Re
 fugees.\n\nEvent connection: https://bridgew.zoom.us/meeting/register/tJAt
 cOytqjssGdPu9RbbpdxT6ajoG-wnsLJ0
DTSTAMP:20260420T005459Z
END:VEVENT
END:VCALENDAR