BEGIN:VCALENDAR
VERSION:2.0
PRODID:iheid
X-WR-TIMEZONE:Europe/Zurich
BEGIN:VTIMEZONE
TZID:Europe/Zurich
X-LIC-LOCATION:Europe/Zurich
END:VTIMEZONE
BEGIN:VEVENT
UID:69e54fe392c78
DTSTART:20211112T133000Z
SEQUENCE:0
TRANSP:OPAQUE
DTEND:20211112T153000Z
URL:https://iheid.webex.com/iheid/onstage/g.php?MTID=ecb74e665e0b09794ea60f
 2295c5b46a5
LOCATION:Hybrid Thesis Defence via Cisco Webex
SUMMARY:UN Peace Support Operations and the Conundrums of the UN’s Duty t
 o Investigate Violations of International Humanitarian Law
CLASS:PUBLIC
DESCRIPTION:UN Peace Support Operations and the Conundrums of the UN’s Du
 ty to Investigate Violations of International Humanitarian Law by Mr Tades
 se Kebebew.\n\n\n\nEvent connection: https://iheid.webex.com/iheid/onstage
 /g.php?MTID=ecb74e665e0b09794ea60f2295c5b46a5
DTSTAMP:20260419T235755Z
END:VEVENT
END:VCALENDAR