BEGIN:VCALENDAR
VERSION:2.0
PRODID:iheid
X-WR-TIMEZONE:Europe/Zurich
BEGIN:VTIMEZONE
TZID:Europe/Zurich
X-LIC-LOCATION:Europe/Zurich
END:VTIMEZONE
BEGIN:VEVENT
UID:69eb3b05e5518
DTSTART:20211123T111500Z
SEQUENCE:0
TRANSP:OPAQUE
DTEND:20211123T124500Z
LOCATION:Petal 1 - room S5\, Maison de la Paix
SUMMARY:SDGs\, Quantification\, and the Production of Expertise
CLASS:PUBLIC
DESCRIPTION:SDGs\, Quantification\, and the Production of Expertise by Soti
 ria Grek\, University of Edinburgh.\n\n\n\nEvent connection: 
DTSTAMP:20260424T114229Z
END:VEVENT
END:VCALENDAR