BEGIN:VCALENDAR
VERSION:2.0
PRODID:iheid
X-WR-TIMEZONE:Europe/Zurich
BEGIN:VTIMEZONE
TZID:Europe/Zurich
X-LIC-LOCATION:Europe/Zurich
END:VTIMEZONE
BEGIN:VEVENT
UID:69e7a08396c44
DTSTART:20211206T171500Z
SEQUENCE:0
TRANSP:OPAQUE
DTEND:20211206T183000Z
LOCATION:Maison de la Paix\, Auditorium A2 and online Please register for t
 he event if you are attending online or in person. COVID Certificate is re
 quired for in-person attendance. Registation
SUMMARY:Diligence is Due: Fair Recruitment Now 
CLASS:PUBLIC
DESCRIPTION:Diligence is Due: Fair Recruitment Now  by Mr. Eddy Stam\, Ms. 
 Ruth Hopkins\, Mr. Jamie Williamson\, Ms. Alix Nasri\, Moderator: Prof. D.
 E.Degila.\n\nGlobal Migration Centre and the Human Rights\, Conflict and P
 eace Initiative\n\nEvent connection: 
DTSTAMP:20260421T180627Z
END:VEVENT
END:VCALENDAR