BEGIN:VCALENDAR
VERSION:2.0
PRODID:iheid
X-WR-TIMEZONE:Europe/Zurich
BEGIN:VTIMEZONE
TZID:Europe/Zurich
X-LIC-LOCATION:Europe/Zurich
END:VTIMEZONE
BEGIN:VEVENT
UID:69e919889a571
DTSTART:20211201T113000Z
SEQUENCE:0
TRANSP:OPAQUE
DTEND:20211201T130000Z
URL:https://zoom.us/webinar/register/WN_M6xXpjVTSmOG-te8FgV0ug
LOCATION:at Maison de la Paix\, Geneva\, Switzerland
SUMMARY:EU Taxonomy and New Reporting Requirements for Companies and Financ
 ial Markets Participants
CLASS:PUBLIC
DESCRIPTION:EU Taxonomy and New Reporting Requirements for Companies and Fi
 nancial Markets Participants by .\n\n\n\nEvent connection: https://zoom.us
 /webinar/register/WN_M6xXpjVTSmOG-te8FgV0ug
DTSTAMP:20260422T205504Z
END:VEVENT
END:VCALENDAR