BEGIN:VCALENDAR
VERSION:2.0
PRODID:iheid
X-WR-TIMEZONE:Europe/Zurich
BEGIN:VTIMEZONE
TZID:Europe/Zurich
X-LIC-LOCATION:Europe/Zurich
END:VTIMEZONE
BEGIN:VEVENT
UID:69e735a20fac1
DTSTART:20211119T150000Z
SEQUENCE:0
TRANSP:OPAQUE
DTEND:20211119T163000Z
URL:https://iheid.webex.com/iheid/j.php?MTID=m324a112829cb5f4c9f7ea0a99fe47
 914
LOCATION:Online&nbsp\;
SUMMARY:Keynote by Makau Mutua
CLASS:PUBLIC
DESCRIPTION:Keynote by Makau Mutua by Makau Mutua.\n\n\n\nEvent connection:
  https://iheid.webex.com/iheid/j.php?MTID=m324a112829cb5f4c9f7ea0a99fe4791
 4
DTSTAMP:20260421T103026Z
END:VEVENT
END:VCALENDAR