BEGIN:VCALENDAR
VERSION:2.0
PRODID:iheid
X-WR-TIMEZONE:Europe/Zurich
BEGIN:VTIMEZONE
TZID:Europe/Zurich
X-LIC-LOCATION:Europe/Zurich
END:VTIMEZONE
BEGIN:VEVENT
UID:69eb2119cb374
DTSTART:20211123T111500Z
SEQUENCE:0
TRANSP:OPAQUE
DTEND:20211123T130000Z
URL:https://docs.google.com/forms/d/e/1FAIpQLSeTTGlaUCAckv6hDKlYrb0EOhHaeM0
 24SvxsrUp5s9lRQ3AKQ/viewform
LOCATION:Online
SUMMARY:Gender Equitable Futures in Technology: Tackling Bias
CLASS:PUBLIC
DESCRIPTION:Gender Equitable Futures in Technology: Tackling Bias by .\n\n\
 n\nEvent connection: https://docs.google.com/forms/d/e/1FAIpQLSeTTGlaUCAck
 v6hDKlYrb0EOhHaeM024SvxsrUp5s9lRQ3AKQ/viewform
DTSTAMP:20260424T095153Z
END:VEVENT
END:VCALENDAR