BEGIN:VCALENDAR
VERSION:2.0
PRODID:iheid
X-WR-TIMEZONE:Europe/Zurich
BEGIN:VTIMEZONE
TZID:Europe/Zurich
X-LIC-LOCATION:Europe/Zurich
END:VTIMEZONE
BEGIN:VEVENT
UID:69e4e3c897acf
DTSTART:20211124T100000Z
SEQUENCE:0
TRANSP:OPAQUE
DTEND:20211124T113000Z
URL:https://us06web.zoom.us/webinar/register/WN_2xrInMbjSYq5_cCiNwsNqg
LOCATION:Virtual Event
SUMMARY:Plurilaterals and Joint Initiatives: What you need to know ahead of
  MC12
CLASS:PUBLIC
DESCRIPTION:Plurilaterals and Joint Initiatives: What you need to know ahea
 d of MC12 by GTP\, Konrad Adenauer Stiftung\, CTEI.\n\n\n\nEvent connectio
 n: https://us06web.zoom.us/webinar/register/WN_2xrInMbjSYq5_cCiNwsNqg
DTSTAMP:20260419T161640Z
END:VEVENT
END:VCALENDAR