BEGIN:VCALENDAR
VERSION:2.0
PRODID:iheid
X-WR-TIMEZONE:Europe/Zurich
BEGIN:VTIMEZONE
TZID:Europe/Zurich
X-LIC-LOCATION:Europe/Zurich
END:VTIMEZONE
BEGIN:VEVENT
UID:69e4f4ee0dbb8
DTSTART:20211209T160000Z
SEQUENCE:0
TRANSP:OPAQUE
DTEND:20211209T170000Z
LOCATION:No location specified
SUMMARY:Book Launch: Perilous Medicine: The struggle to protect health care
  from the violence of war
CLASS:PUBLIC
DESCRIPTION:Book Launch: Perilous Medicine: The struggle to protect health 
 care from the violence of war by Leonard Rubenstein\, Maciej Polkowski\, A
 ula Abbara.\n\n\n\nEvent connection: 
DTSTAMP:20260419T172950Z
END:VEVENT
END:VCALENDAR